BEGIN:VCALENDAR
VERSION:2.0
PRODID:-//eventon.com NONSGML v1.0//EN
CALSCALE:GREGORIAN
METHOD:PUBLISH
BEGIN:VEVENT
UID:69e73bf291577
DTSTAMP:20260421T085722Z
DTSTART:20190518T120000Z
DTEND:20190518T020000Z
LOCATION:Westpark An der Jahrhunderthalle 1\,  44793
SUMMARY:Paluma Music Festival 2019
DESCRIPTION:Das Paluma Music Festival ist ein Openair Festival der elektron
 ischen Musik\,  welches zum zweiten Mal in Bochum stattfindet. Größen wie
  Lost Frequencies waren auf der letzten Ausgabe 2017 vertreten.\nhttps://fe
 stival-dates.com/events/paluma-music-festival-2019/
URL:https://festival-dates.com/events/paluma-music-festival-2019/
END:VEVENT
END:VCALENDAR